BEGIN:VCALENDAR
VERSION:2.0
PRODID:-//hacksw/handcal//NONSGML v1.0//EN
CALSCALE:GREGORIAN
BEGIN:VEVENT
DTSTART:20191114T080000
DTEND:20191114T090000
UID:60f6e95b49e80
DTSTAMP:20210720T151851
LOCATION:ECCL Luxembourg
DESCRIPTION:
SUMMARY:Breakfast
END:VEVENT
END:VCALENDAR

