BEGIN:VCALENDAR
VERSION:2.0
PRODID:-//hacksw/handcal//NONSGML v1.0//EN
CALSCALE:GREGORIAN
BEGIN:VEVENT
DTSTART:20191114T090000
DTEND:20191114T092000
UID:60f6e95d8b256
DTSTAMP:20210720T151853
LOCATION:ECCL Luxembourg
DESCRIPTION:
SUMMARY:Safety\, Security and Sustainability of Outer Space activities (3SOS)\,- A way forward together
END:VEVENT
END:VCALENDAR

