BEGIN:VCALENDAR
VERSION:2.0
PRODID:-//hacksw/handcal//NONSGML v1.0//EN
CALSCALE:GREGORIAN
BEGIN:VEVENT
DTSTART:20191114T143000
DTEND:20191114T145000
UID:60f6ea0e89fd6
DTSTAMP:20210720T152150
LOCATION:ECCL Luxembourg
DESCRIPTION:
SUMMARY:Keynote: NASA
END:VEVENT
END:VCALENDAR

