BEGIN:VCALENDAR
VERSION:2.0
PRODID:-//hacksw/handcal//NONSGML v1.0//EN
CALSCALE:GREGORIAN
BEGIN:VEVENT
DTSTART:20191114T145000
DTEND:20191114T151000
UID:60f6ea1148fff
DTSTAMP:20210720T152153
LOCATION:ECCL Luxembourg
DESCRIPTION:
SUMMARY:Mission WISE - the path to reinvent biology in space and unleash LEO pressurized vehicle’s commercial potential
END:VEVENT
END:VCALENDAR

