BEGIN:VCALENDAR
VERSION:2.0
PRODID:-//hacksw/handcal//NONSGML v1.0//EN
CALSCALE:GREGORIAN
BEGIN:VEVENT
DTSTART:20191114T151000
DTEND:20191114T153000
UID:60f6ea135c2a0
DTSTAMP:20210720T152155
LOCATION:ECCL Luxembourg
DESCRIPTION:
SUMMARY:Keynote: Made In Space
END:VEVENT
END:VCALENDAR

