BEGIN:VCALENDAR
VERSION:2.0
PRODID:-//hacksw/handcal//NONSGML v1.0//EN
CALSCALE:GREGORIAN
BEGIN:VEVENT
DTSTART:20191114T100000
DTEND:20191114T110000
UID:60f6e9e6926b1
DTSTAMP:20210720T152110
LOCATION:ECCL Luxembourg
DESCRIPTION:
SUMMARY:Panel: Communications
END:VEVENT
END:VCALENDAR

