BEGIN:VCALENDAR
VERSION:2.0
PRODID:-//hacksw/handcal//NONSGML v1.0//EN
CALSCALE:GREGORIAN
BEGIN:VEVENT
DTSTART:20191114T110000
DTEND:20191114T112000
UID:60f6e9ea6fb68
DTSTAMP:20210720T152114
LOCATION:ECCL Luxembourg
DESCRIPTION:
SUMMARY:Networking Break
END:VEVENT
END:VCALENDAR

